BEGIN:VCALENDAR
VERSION:2.0
PRODID:spatie/icalendar-generator
DESCRIPTION:Events from Power to code
X-WR-CALDESC:Events from Power to code
REFRESH-INTERVAL;VALUE=DURATION:PT1440M
X-PUBLISHED-TTL:PT1440M
BEGIN:VTIMEZONE
TZID:Etc/GMT+0
BEGIN:STANDARD
DTSTART:20241116T000000Z
TZOFFSETFROM:+0000
TZOFFSETTO:+0000
END:STANDARD
END:VTIMEZONE
BEGIN:VTIMEZONE
TZID:UTC
BEGIN:STANDARD
DTSTART:20250729T114916Z
TZOFFSETFROM:+0000
TZOFFSETTO:+0000
END:STANDARD
END:VTIMEZONE
BEGIN:VEVENT
UID:82-72
DTSTAMP:20260425T114916Z
SUMMARY:Apertura de inscripciones
LOCATION:
ORGANIZER;CN=Eva Carrasco:MAILTO:eva.carrascogonzalez@gmail.com
DTSTART;TZID=Etc/GMT+0;VALUE=DATE:20250813
DTEND;TZID=Etc/GMT+0;VALUE=DATE:20250814
X-ALT-DESC;FMTTYPE=TEXT/HTML:
CATEGORIES:Technovation
URL;VALUE=URI:https://powertocode.org/mc-events/apertura-de-inscripciones/
METHOD:PUBLISH
END:VEVENT
END:VCALENDAR